BEGIN:VCALENDAR
VERSION:2.0
PRODID:-//nebraskaasthmacoalition.org//NONSGML kigkonsult.se iCalcreator 2.
 30.10//
CALSCALE:GREGORIAN
METHOD:PUBLISH
UID:b33fbef2-3540-408b-ba26-c9fb6c444137
X-WR-CALDESC:
X-WR-RELCALID:fafd170a60bd4c5a42ebe7612b1702bc
X-WR-TIMEZONE:America/Chicago
BEGIN:VTIMEZONE
TZID:America/Chicago
BEGIN:STANDARD
TZNAME:CST
DTSTART:20301103T020000
TZOFFSETFROM:-0500
TZOFFSETTO:-0600
RDATE:20311102T020000
END:STANDARD
BEGIN:DAYLIGHT
TZNAME:CDT
DTSTART:20310309T020000
TZOFFSETFROM:-0600
TZOFFSETTO:-0500
RDATE:20320314T020000
END:DAYLIGHT
END:VTIMEZONE
BEGIN:VEVENT
UID:88bab90a-cebf-4d03-87d2-8f95480102f0
DTSTAMP:20260421T082910Z
DESCRIPTION:
DTSTART;TZID=America/Chicago:20310409T173000
DTEND;TZID=America/Chicago:20310409T183000
LOCATION:Virtual\, Omaha\, NE 68114 US
SUMMARY:Nebraska Asthma Coalition Quarterly Meeting
END:VEVENT
END:VCALENDAR
